BEGIN:VCALENDAR
VERSION:2.0
PRODID:-//Pennsylvania Kid - ECPv6.15.20//NONSGML v1.0//EN
CALSCALE:GREGORIAN
METHOD:PUBLISH
X-ORIGINAL-URL:https://pennsylvaniakid.com
X-WR-CALDESC:Events for Pennsylvania Kid
REFRESH-INTERVAL;VALUE=DURATION:PT1H
X-Robots-Tag:noindex
X-PUBLISHED-TTL:PT1H
BEGIN:VTIMEZONE
TZID:UTC
BEGIN:STANDARD
TZOFFSETFROM:+0000
TZOFFSETTO:+0000
TZNAME:UTC
DTSTART:20250101T000000
END:STANDARD
END:VTIMEZONE
BEGIN:VEVENT
DTSTART;TZID=UTC:20260425T090000
DTEND;TZID=UTC:20260425T120000
DTSTAMP:20260421T133028
CREATED:20260419T211340Z
LAST-MODIFIED:20260419T211340Z
UID:16039-1777107600-1777118400@pennsylvaniakid.com
SUMMARY:Earth Day Celebration
DESCRIPTION: Earth Day Celebration at Snipes Farm \n Date: Saturday\, April 26\, 2026 Time: 9:00 AM – 12:00 PM Location: Snipes Farm & Education Center890 W Bridge St\, Morrisville\, PA 19067\nBillions of stars… countless planets… and still\, no place like Earth This is our home—and together\, we protect it.\nJoin us for a meaningful and hands-on Earth Day Celebration\, where community\, nature\, and purpose come together \n What to Expect:• Hands-on volunteer projects around the farm• Nature trail care & maintenance• Removing invasive plants• Planting native trees • Environmental stewardship activities• Kid-friendly projects like animal care & spring garden clean-up • Songs\, stories & community connection\n Most of the organic produce grown on our farm supports local hunger relief efforts\, making your impact even more meaningful.\n Who’s invited?Families\, friends\, corporate groups\, youth groups & anyone who loves the Earth \n Make a day of it!Bring a picnic lunch and stay awhile after volunteering!\n Let’s celebrate\, give back\, and reconnect with the land that sustains us.
URL:https://pennsylvaniakid.com/event/earth-day-celebration
LOCATION:Snipes Farm & Education Center\, 890 W Bridge Street\, Morrisville\, PA\, 19067\, United States
CATEGORIES:Earth Day,Free
ATTACH;FMTTYPE=image/jpeg:https://pennsylvaniakid.com/wp-content/uploads/2026/04/652529938_1596645212299252_2228666681583908735_n.jpg
END:VEVENT
BEGIN:VEVENT
DTSTART;TZID=UTC:20260425T090000
DTEND;TZID=UTC:20260425T163000
DTSTAMP:20260421T133028
CREATED:20260419T211023Z
LAST-MODIFIED:20260419T211023Z
UID:16036-1777107600-1777134600@pennsylvaniakid.com
SUMMARY:Earth Day at Please Touch Museum
DESCRIPTION: Earth Day Celebration at Please Touch Museum! Celebrate our amazing planet with a full day of hands-on discovery\, creative fun\, and earth-friendly learning for the whole family! Sponsored by Essential Utilities.\n Watershed Adventure with Let’s Go OutdoorsDive into an interactive Enviroscape model to see how water moves through our communities\, how pollution spreads\, and what we can do to protect our rivers and streams. Ocean ExplorationFrom currents to crawling critters\, discover what makes the ocean move! Get an up-close look at sea creatures and uncover the secrets of this wiggly water world. (Day-of sign-up required) Live Performance: Lightyears AwayEnjoy a special sensory-friendly performance by Philly Sensory Theatre that’s out of this world! Rolling Weather LabStep inside The Planet Earth Challenge’s mobile lab and explore how clouds form\, storms grow\, and how weather shapes our planet. Recycle Roundup RelayTeam up and race against the clock in this high-energy game to help save the planet through recycling fun! Build a Water FilterThink like an environmental scientist as you design and test your own water filtration system and learn how to keep our water clean. Recycled Art StudioGet creative by turning recycled materials into textured art tiles using cardboard paper pulp—because art can be eco-friendly\, too! Storytime: Willow Takes on the WeatherJoin our educators for a special reading about learning to embrace the weather\, rain or shine. Little Explorers Activity (Ages 3 & Under)Help protect earthworms—nature’s tiny helpers—by practicing fine motor skills as you move them from hot sidewalks to cool grass.\n The best part? Everything is included with museum admission. Come celebrate Earth Day with us and discover how even the smallest actions can make a big difference!
URL:https://pennsylvaniakid.com/event/earth-day-at-please-touch-museum
LOCATION:Please Touch Museum\, 4231 Avenue of the Republic\, Philadelphia\, PA\, 19131\, United States
CATEGORIES:Earth Day,Museum
ATTACH;FMTTYPE=image/jpeg:https://pennsylvaniakid.com/wp-content/uploads/2026/04/665998657_1334856912022634_1693954384723305152_n.jpg
END:VEVENT
BEGIN:VEVENT
DTSTART;TZID=UTC:20260425T100000
DTEND;TZID=UTC:20260425T130000
DTSTAMP:20260421T133028
CREATED:20260419T185914Z
LAST-MODIFIED:20260419T185914Z
UID:16015-1777111200-1777122000@pennsylvaniakid.com
SUMMARY:Earth Day Celebration at Broad Commons
DESCRIPTION:Celebrate Earth Day at Broad Commons Park!\nThe Doylestown Borough Environmental Advisory Council is hosting an Earth Day event offering activities and info promoting environmental sustainability in our community!\nHighlights include:\n-Native plant giveaway-Face Painting ($)-Kids Crafts (free!)-Games-Music-Meet local environmental organizations and businesses…and more!\nNo need to RSVP – stop by any time!\nThank you to the following organizations for sharing their time and resources to help make this event successful:\nBucks County Conservation DistrictHeritage ConservancyExact SolarShade Tree CommissionBorough Water DepartmentPenn State Master Gardeners (Bucks County)Womens National Farm and Garden AssociationNeshaminy Watershed AssociationDoylestown Nature ClubATS Tree ServicePeace Valley Nature CenterDoylestown TownshipMaster Watershed StewardsMaddly PaintedNook Nook Music School
URL:https://pennsylvaniakid.com/event/earth-day-celebration-at-broad-commons
LOCATION:PA
CATEGORIES:Earth Day,Free
ATTACH;FMTTYPE=image/jpeg:https://pennsylvaniakid.com/wp-content/uploads/2026/04/654742677_1366220165534268_7508228411491846434_n.jpg
END:VEVENT
BEGIN:VEVENT
DTSTART;TZID=UTC:20260425T110000
DTEND;TZID=UTC:20260425T140000
DTSTAMP:20260421T133028
CREATED:20260419T163907Z
LAST-MODIFIED:20260419T163907Z
UID:15972-1777114800-1777125600@pennsylvaniakid.com
SUMMARY:Earth Day Fair & Farmers Market
DESCRIPTION:Celebrate the planet we call home at Wyomissing’s Earth Day Fair & Farmer’s Market 2026 — a fun\, engaging\, and family-friendly event for all ages!\nThis year\, we’re expanding the celebration into a full weekend of earth-focused activities\, with our main fair taking place on Saturday at Happy Hollow Playground.\nJoin us for a vibrant afternoon filled with:Hands-on environmental activitiesNature-themed crafts and storytellingLocal earth-conscious vendors and organizationsEducational demonstrations and green practicesLive music and earth-minded food options\nDiscover sustainable products\, learn simple ways to live greener\, and connect with local groups dedicated to protecting our shared spaces. Whether you’re a longtime eco-advocate or just beginning your sustainability journey\, there’s something here to inspire every age.\nIf needed\, we do have a RAIN DATE set for the next day\, Sunday\, April 26 – things will kick off at 11:00 AM. Be sure to check back as we get closer and finalize some of the other activities.\nMore activities and weekend details coming soon — stay tuned!
URL:https://pennsylvaniakid.com/event/earth-day-fair-farmers-market
LOCATION:Happy Hollow Playground\, 1129 Garfield Avenue\, Reading\, PA\, 19610\, United States
CATEGORIES:Earth Day,Free
ATTACH;FMTTYPE=image/jpeg:https://pennsylvaniakid.com/wp-content/uploads/2026/04/627479720_1368447008659957_3358970027563302525_n.jpg
END:VEVENT
BEGIN:VEVENT
DTSTART;TZID=UTC:20260425T120000
DTEND;TZID=UTC:20260425T160000
DTSTAMP:20260421T133028
CREATED:20260419T162217Z
LAST-MODIFIED:20260419T162217Z
UID:15958-1777118400-1777132800@pennsylvaniakid.com
SUMMARY:Norristown Earth Day Celebration with Izzy
DESCRIPTION:Save the date! Izzy’s Earth Day Party will be on Saturday April 25\, 2026 at Elmwood Park. Get ready for hands-on nature fun where kids can explore\, discover\, and learn how to help our planet bloom and buzz. The event is free and open to the public.
URL:https://pennsylvaniakid.com/event/norristown-earth-day-celebration-with-izzy
LOCATION:Elmwood Park\, 1325 Harding Boulevard\, Norristown\, PA\, 19401\, United States
CATEGORIES:Earth Day,Free
ATTACH;FMTTYPE=image/jpeg:https://pennsylvaniakid.com/wp-content/uploads/2026/04/655625207_122265006878370090_5126966664330647634_n.jpg
END:VEVENT
BEGIN:VEVENT
DTSTART;TZID=UTC:20260426T130000
DTEND;TZID=UTC:20260426T160000
DTSTAMP:20260421T133028
CREATED:20260419T213159Z
LAST-MODIFIED:20260419T213159Z
UID:16049-1777208400-1777219200@pennsylvaniakid.com
SUMMARY:Earthfest 2026
DESCRIPTION:Celebrate the Earth at our annual Earth Day celebration! Enjoy a variety of activities\, including guided hikes\, animal encounters\, games\, crafts\, and more.\n​Sponsored by The DuPey Team: Pillar to Post ( @dupeyteam )\n​Location: Briar Bush Nature CenterDate: Sunday\, April 26\, 2026Time: 1:00pm-4:00pmCost: FREE (Registration is not required!)
URL:https://pennsylvaniakid.com/event/earthfest-2026
LOCATION:Briar Bush Nature Center\, 2595 Rubicam Avenue\, Willow Grove\, PA\, 19090\, United States
CATEGORIES:Earth Day,Nature Center
ATTACH;FMTTYPE=image/jpeg:https://pennsylvaniakid.com/wp-content/uploads/2026/04/612448696_1279553900871962_5781357877521070949_n.jpg
END:VEVENT
BEGIN:VEVENT
DTSTART;TZID=UTC:20260426T130000
DTEND;TZID=UTC:20260426T160000
DTSTAMP:20260421T133028
CREATED:20260419T220201Z
LAST-MODIFIED:20260419T220201Z
UID:16052-1777208400-1777219200@pennsylvaniakid.com
SUMMARY:Upper Uwchlan Township Earth Day Celebration
DESCRIPTION: Join Us for the 5th Annual Earth Day Celebration! \nThe Upper Uwchlan Township Environmental Advisory Council is excited to host our FIFTH Earth Day celebration! \nOur family-friendly event will feature:\n Sustainable and eco-friendly exhibits Vendors offering green tips\, demos\, and products Live music to set the vibe Delicious food from Greco’s Pizza Workshops and Presentations – registration required Fun games and activities for the kids!\nStop by anytime between 1 – 4 PM to learn\, enjoy\, and celebrate our planet and community !\nCheck out the Discussion Tab for more event details and updates.
URL:https://pennsylvaniakid.com/event/upper-uwchlan-township-earth-day-celebration
LOCATION:Upland Farms\, 83 Darrell Dr\, Chester Springs\, PA\, 19425\, United States
CATEGORIES:Earth Day,Free
ATTACH;FMTTYPE=image/jpeg:https://pennsylvaniakid.com/wp-content/uploads/2026/04/649555291_1350236647145848_8844887998520477733_n-scaled.jpg
END:VEVENT
END:VCALENDAR