BEGIN:VCALENDAR
VERSION:2.0
PRODID:-//Pennsylvania Kid - ECPv6.15.20//NONSGML v1.0//EN
CALSCALE:GREGORIAN
METHOD:PUBLISH
X-WR-CALNAME:Pennsylvania Kid
X-ORIGINAL-URL:https://pennsylvaniakid.com
X-WR-CALDESC:Events for Pennsylvania Kid
REFRESH-INTERVAL;VALUE=DURATION:PT1H
X-Robots-Tag:noindex
X-PUBLISHED-TTL:PT1H
BEGIN:VTIMEZONE
TZID:UTC
BEGIN:STANDARD
TZOFFSETFROM:+0000
TZOFFSETTO:+0000
TZNAME:UTC
DTSTART:20250101T000000
END:STANDARD
END:VTIMEZONE
BEGIN:VEVENT
DTSTART;TZID=UTC:20260425T100000
DTEND;TZID=UTC:20260425T113000
DTSTAMP:20260421T144105
CREATED:20260419T173238Z
LAST-MODIFIED:20260419T173238Z
UID:15999-1777111200-1777116600@pennsylvaniakid.com
SUMMARY:Fairy Yoga
DESCRIPTION:Back for the third year in a row! Spend a magical morning in Taproot Photography’s Secret Garden. Fairy-themed yoga followed by fairy garden terrariums and pink lemonade (and bubbles for grownups!). $37/Child; One adult is free per child and welcome to participate.Please note: This garden is part of a private residence off of West Chester Pike in West Chester. I will email you the exact address upon registration.For more information\, or to register\, visit: https://www.yogawithmsrebecca.com/classes
URL:https://pennsylvaniakid.com/event/fairy-yoga
CATEGORIES:Kids Fitness
ATTACH;FMTTYPE=image/jpeg:https://pennsylvaniakid.com/wp-content/uploads/2026/04/646949470_847496618333204_3484395588087518377_n.jpg
END:VEVENT
END:VCALENDAR