BEGIN:VCALENDAR
VERSION:2.0
PRODID:-//Pennsylvania Kid - ECPv6.15.20//NONSGML v1.0//EN
CALSCALE:GREGORIAN
METHOD:PUBLISH
X-ORIGINAL-URL:https://pennsylvaniakid.com
X-WR-CALDESC:Events for Pennsylvania Kid
REFRESH-INTERVAL;VALUE=DURATION:PT1H
X-Robots-Tag:noindex
X-PUBLISHED-TTL:PT1H
BEGIN:VTIMEZONE
TZID:UTC
BEGIN:STANDARD
TZOFFSETFROM:+0000
TZOFFSETTO:+0000
TZNAME:UTC
DTSTART:20250101T000000
END:STANDARD
END:VTIMEZONE
BEGIN:VEVENT
DTSTART;TZID=UTC:20260425T100000
DTEND;TZID=UTC:20260425T160000
DTSTAMP:20260423T100646
CREATED:20260419T190334Z
LAST-MODIFIED:20260419T190334Z
UID:16018-1777111200-1777132800@pennsylvaniakid.com
SUMMARY:Mother's Day Maker's Market
DESCRIPTION: Mother’s Day Market at Rockvale Outlets \nJoin us for over 100 local vendors\, delicious food trucks\, and so much more at this special Mother’s Day Market collaboration with Artisan Mill Co × Flourish Makers Market! \nShop small\, support local\, and find the perfect gifts while enjoying a fun day out at Rockvale Outlets in Lancaster\, PA. Bring your friends\, family\, and moms—this is one you won’t want to miss! 
URL:https://pennsylvaniakid.com/event/mothers-day-makers-market
LOCATION:Rockvale Outlets\, 35 S Willowdale Dr\, Lancaster\, PA\, 17602\, United States
CATEGORIES:Mother's Day
ATTACH;FMTTYPE=image/jpeg:https://pennsylvaniakid.com/wp-content/uploads/2026/04/615479256_1209470728038678_3816867208530710040_n.jpg
END:VEVENT
BEGIN:VEVENT
DTSTART;TZID=UTC:20260425T130000
DTEND;TZID=UTC:20260425T160000
DTSTAMP:20260423T100646
CREATED:20260420T001110Z
LAST-MODIFIED:20260420T001110Z
UID:16104-1777122000-1777132800@pennsylvaniakid.com
SUMMARY:Mother's Day Market
DESCRIPTION:Join us Saturday\, April 25th from 1-4PM as we host local talented vendors that want to help you find that one of a kind gift for Mom this Mother’s Day.\nWe will have 30+ curated\, unique vendors to guarantee you leave with something special.\nThe Craven will be out front for food\, and indoors we’ll be whipping up yummy cocktails and pouring pints.\nThank you for supporting local and being a part of the transformation of the brewery into a sip & shop for Mom.
URL:https://pennsylvaniakid.com/event/mothers-day-market
LOCATION:Free Will Brewing\, 410 E Walnut St\, Perkasie\, PA\, 18944\, United States
CATEGORIES:Mother's Day
ATTACH;FMTTYPE=image/jpeg:https://pennsylvaniakid.com/wp-content/uploads/2026/04/636104733_1340209251473127_3550471652111793609_n.jpg
END:VEVENT
BEGIN:VEVENT
DTSTART;TZID=UTC:20260501T110000
DTEND;TZID=UTC:20260503T200000
DTSTAMP:20260423T100646
CREATED:20260420T002944Z
LAST-MODIFIED:20260420T002944Z
UID:16124-1777633200-1777838400@pennsylvaniakid.com
SUMMARY:Mother’s Day Craft & Vendor Market
DESCRIPTION: Celebrate Mom at the Willow Grove Mother’s Day Craft & Vendor Market\nDates & Times:\nFriday\, May 1\, 2026 – 11 am to 8pmSaturday\, May 2\, 2026 – 11 am to 8pmSunday\, May 3\, 2026 – 11 am to 6pmJoin us for a heartwarming weekend featuring local vendors\, delightful treats\, and thoughtful gift ideas to celebrate and honor the amazing moms in your life!
URL:https://pennsylvaniakid.com/event/mothers-day-craft-vendor-market
LOCATION:Willow Grove Park Mall\, 2500 Moreland Road\, Willow Grove\, PA\, 19090\, United States
CATEGORIES:Mother's Day
ATTACH;FMTTYPE=image/jpeg:https://pennsylvaniakid.com/wp-content/uploads/2026/04/611381005_756385864158856_1213810496308617474_n.jpg
END:VEVENT
BEGIN:VEVENT
DTSTART;VALUE=DATE:20260504
DTEND;VALUE=DATE:20260511
DTSTAMP:20260423T100646
CREATED:20260419T153529Z
LAST-MODIFIED:20260419T153529Z
UID:15948-1777852800-1778457599@pennsylvaniakid.com
SUMMARY:Mommy & Me High Tea
DESCRIPTION:
URL:https://pennsylvaniakid.com/event/mommy-me-high-tea
LOCATION:Petite Matines\, 89 Bethlehem Pike\, Philadelphia\, PA\, United States
CATEGORIES:Mother's Day
ATTACH;FMTTYPE=image/jpeg:https://pennsylvaniakid.com/wp-content/uploads/2026/04/673820223_122138162445000598_812004234235087642_n.jpg
END:VEVENT
BEGIN:VEVENT
DTSTART;TZID=UTC:20260509T103000
DTEND;TZID=UTC:20260509T123000
DTSTAMP:20260423T100646
CREATED:20260419T185728Z
LAST-MODIFIED:20260419T185728Z
UID:16012-1778322600-1778329800@pennsylvaniakid.com
SUMMARY:Mother's Day Paint Party! Love on Canvas
DESCRIPTION:Celebrate Mother’s Day weekend with your little one in a morning full of creativity\, laughter\, and special memories!🎨💖\nWhat’s Included:\n*Painting on Canvas: Create a keepsake masterpiece together\n*Open Play & Bubbles: Fun for the kids while mom relaxes\n*Bite-Size Delights: Mini snacks and treats for everyone\n*Adult Complimentary: Moms enjoy this special day too!
URL:https://pennsylvaniakid.com/event/mothers-day-paint-party-love-on-canvas
LOCATION:Captain Hook’s Playroom\, 922 Market Street\, Marcus Hook\, PA\, United States
CATEGORIES:Indoor Play,Mother's Day
ATTACH;FMTTYPE=image/jpeg:https://pennsylvaniakid.com/wp-content/uploads/2026/04/appointmentType-thumb-88424409.jpg
END:VEVENT
BEGIN:VEVENT
DTSTART;TZID=UTC:20260509T140000
DTEND;TZID=UTC:20260509T150000
DTSTAMP:20260423T100646
CREATED:20260419T153713Z
LAST-MODIFIED:20260419T153713Z
UID:15950-1778335200-1778338800@pennsylvaniakid.com
SUMMARY:Mother's Day Craft Class
DESCRIPTION:Spots are limited — sign up at petite@matinescafe.com
URL:https://pennsylvaniakid.com/event/mothers-day-craft-class
LOCATION:Petite Matines\, 89 Bethlehem Pike\, Philadelphia\, PA\, United States
CATEGORIES:Crafting,Mother's Day
ATTACH;FMTTYPE=image/jpeg:https://pennsylvaniakid.com/wp-content/uploads/2026/04/672448693_122138161743000598_3989935622301437697_n-1.jpg
END:VEVENT
END:VCALENDAR