BEGIN:VCALENDAR
VERSION:2.0
PRODID:-//Pennsylvania Kid - ECPv6.15.20//NONSGML v1.0//EN
CALSCALE:GREGORIAN
METHOD:PUBLISH
X-ORIGINAL-URL:https://pennsylvaniakid.com
X-WR-CALDESC:Events for Pennsylvania Kid
REFRESH-INTERVAL;VALUE=DURATION:PT1H
X-Robots-Tag:noindex
X-PUBLISHED-TTL:PT1H
BEGIN:VTIMEZONE
TZID:UTC
BEGIN:STANDARD
TZOFFSETFROM:+0000
TZOFFSETTO:+0000
TZNAME:UTC
DTSTART:20250101T000000
END:STANDARD
END:VTIMEZONE
BEGIN:VEVENT
DTSTART;TZID=UTC:20260411T140000
DTEND;TZID=UTC:20260411T160000
DTSTAMP:20260421T132104
CREATED:20260224T000312Z
LAST-MODIFIED:20260224T000312Z
UID:15576-1775916000-1775923200@pennsylvaniakid.com
SUMMARY:Eggs In the Wild: A Raptor Adventure
DESCRIPTION:Bring the entire family to The Nature Place for a fun-filled aternoon of nature\, wildlife\, and outdoor adventure! During the Raptor Egg Hunt\, kids will hunt for camouflaged “raptor eggs” hidden across the Nature Play Zone – each one filled with candy and stickers for a wild surprise. Then meet real raptors up close during an exciting LIVE bird show\, presented by the John James Audubon Center. As the sun sets on this memorable day\, we’ll keep the good times going with a cozy campfire\, complete with hot dogs and s’mores!\n\n\nPlease note\, end times are approximate.\n\n\n\nPer Child (Includes Egg Hunt Ages 3-12)\n$15.00\n\n\nParent and Child (Egg hunt\, raptor show\, and fire)\n$20.00\n\n\nParent/Sibling add-on (Just Raptor Show and Fire)\n$5.00\n\n\n\n\n\nRegistration closes April 5th for planning!
URL:https://pennsylvaniakid.com/event/eggs-in-the-wild-a-raptor-adventure
LOCATION:Berks Nature\, 575 St. Bernardine Street\, Reading\, PA\, 19607\, United States
CATEGORIES:Easter,Nature Center
ATTACH;FMTTYPE=image/png:https://pennsylvaniakid.com/wp-content/uploads/2026/02/2025-banner-1-3.png
END:VEVENT
BEGIN:VEVENT
DTSTART;TZID=UTC:20260411T130000
DTEND;TZID=UTC:20260411T140000
DTSTAMP:20260421T132104
CREATED:20260207T234209Z
LAST-MODIFIED:20260207T234209Z
UID:15426-1775912400-1775916000@pennsylvaniakid.com
SUMMARY:Nature Origami Class
DESCRIPTION:Join SLNC’s awesome Environmental Educator\, Tie Matecha\, for this great class! \nLearn how to fold origami butterflies and herons. We will discuss the origins of the ancient art of origami as well as the ecological importance of butterflies and Great Blue Herons. This event is designed for adults and children ages 8+. \nPre-registration is required. Price is $8/Person for Nonmembers or $5/Person for Members of the Friends of SLNC. \nPlease scroll down to register\, thanks!
URL:https://pennsylvaniakid.com/event/nature-origami-class
LOCATION:Silver Lake Nature Center\, 1306 Bath Road\, Bristol\, PA\, United States
CATEGORIES:Nature Center
ATTACH;FMTTYPE=image/png:https://pennsylvaniakid.com/wp-content/uploads/2026/02/Nature-Origami-Class-on-4-11-26-300x388-1.png
END:VEVENT
BEGIN:VEVENT
DTSTART;TZID=UTC:20260401T193000
DTEND;TZID=UTC:20260401T210000
DTSTAMP:20260421T132104
CREATED:20260207T234915Z
LAST-MODIFIED:20260207T234915Z
UID:15435-1775071800-1775077200@pennsylvaniakid.com
SUMMARY:April Fools Full Moon Night Hike
DESCRIPTION:The “Don’t Get Fooled” Full Moon Hike\nApril 1st\, 2026 | 7:30 PM – 9:00 PM \nThink you’ve seen it all? Think again. This April Fools’ Day\, we’re heading into the McKaig Nature Education Center for a hike that’s 100% real (we promise)\, even if the date feels suspicious. \nWith sunset at 7:25 PM and the moon rising at 7:19 PM\, we’ll be timing our departure from the Roberts Elementary School parking lot just as the shadows start to play tricks on your eyes. Is that a tree stump or a woodland prankster? Only one way to find out!
URL:https://pennsylvaniakid.com/event/april-fools-full-moon-night-hike
LOCATION:McKaig Nature Education Center\, 889 Croton Rd\, Wayne\, PA\, 19087\, United States
CATEGORIES:Nature Center
ATTACH;FMTTYPE=image/png:https://pennsylvaniakid.com/wp-content/uploads/2026/02/April_Fools_Full_Moon_hike_April_2026_1874850868.png
END:VEVENT
BEGIN:VEVENT
DTSTART;TZID=UTC:20260330T080000
DTEND;TZID=UTC:20260403T150000
DTSTAMP:20260421T132104
CREATED:20260215T130735Z
LAST-MODIFIED:20260215T130735Z
UID:15460-1774857600-1775228400@pennsylvaniakid.com
SUMMARY:Day-off Camp
DESCRIPTION:When schools are closed\, we are open! Keep curious young minds and busy bodies active with the Schuylkill Center Day-Off Camp. Trained educators lead students grades K-6 on unique nature-themed explorations that take advantage of our science lab\, Discovery Center\, and 365 acres of beautiful wooded trails\, streams\, and ponds. \nThe theme for this week of spring break Day-Off Camp is Nature Detectives! Each day at camp will feature activities focused on finding and interpreting nature’s clues like tracks\, scat\, owl pellets\, signs of new plant growth\, beetle galleries and woodpecker holes in trees\, and more! Come search for clues and unravel nature’s mysteries with us! \nPlease bring a packed lunch\, water bottle and an extra set of clothes. Wear weather-appropriate clothing that can get dirty. Space is limited to 30 campers. Sign up early to guarantee your spot. \nHours: \n\nDay Off Camp Hours: 8:00 am–3:00 pm\nAftercare Hours: 3:00pm -6:00pm\n\nDaily Fee: \n\nSchuylkill Center Members: $80\nNon-members: $90\nAftercare: $20
URL:https://pennsylvaniakid.com/event/day-off-camp-3
LOCATION:Schuylkill Center\, 8480 Hagy's Mill Road\, Philadelphia\, PA\, 19128\, United States
CATEGORIES:Nature Center
ATTACH;FMTTYPE=image/jpeg:https://pennsylvaniakid.com/wp-content/uploads/2026/02/children-in-canoe-edited.jpg
END:VEVENT
BEGIN:VEVENT
DTSTART;TZID=UTC:20260328T100000
DTEND;TZID=UTC:20260328T110000
DTSTAMP:20260421T132104
CREATED:20260224T002814Z
LAST-MODIFIED:20260224T002814Z
UID:15582-1774692000-1774695600@pennsylvaniakid.com
SUMMARY:Signs of Spring Scavenger Hike
DESCRIPTION:Spring is waking up—can you spot the clues? Join us for a fun-filled scavenger hunt to find nature’s harbingers of spring! From budding trees to buzzing bees\, grab your scavenger hunt list and hit the trails of Angelica Creek Park on the lookout for flowers\, tracks\, and other wild surprises! Everyone must register including parents!\n\n\nPlease note\, end times are approximate.\n\n\n\nRegistration closes March 26th
URL:https://pennsylvaniakid.com/event/signs-of-spring-scavenger-hike
LOCATION:Berks Nature\, 575 St. Bernardine Street\, Reading\, PA\, 19607\, United States
CATEGORIES:Free,Nature Center
ATTACH;FMTTYPE=image/png:https://pennsylvaniakid.com/wp-content/uploads/2026/02/2025-banner-1-3.png
END:VEVENT
BEGIN:VEVENT
DTSTART;TZID=UTC:20260325T080000
DTEND;TZID=UTC:20260325T150000
DTSTAMP:20260421T132104
CREATED:20260215T130541Z
LAST-MODIFIED:20260215T130541Z
UID:15457-1774425600-1774450800@pennsylvaniakid.com
SUMMARY:Day-off Camp
DESCRIPTION:When schools are closed\, we are open! Keep curious young minds and busy bodies active with the Schuylkill Center Day-Off Camp. Trained educators lead students grades K-6 on unique nature-themed explorations that take advantage of our science lab\, Discovery Center\, and 365 acres of beautiful wooded trails\, streams\, and ponds. \nPlease bring a packed lunch\, water bottle and an extra set of clothes. Wear weather-appropriate clothing that can get dirty. Space is limited to 30 campers. Sign up early to guarantee your spot. \nHours: \n\nDay Off Camp Hours: 8:00 am–3:00 pm\nAftercare Hours: 3:00pm -6:00pm\n\nDaily Fee: \n\nSchuylkill Center Members: $80\nNon-members: $90\nAftercare: $20
URL:https://pennsylvaniakid.com/event/day-off-camp-2
LOCATION:Schuylkill Center\, 8480 Hagy's Mill Road\, Philadelphia\, PA\, 19128\, United States
CATEGORIES:Nature Center
ATTACH;FMTTYPE=image/jpeg:https://pennsylvaniakid.com/wp-content/uploads/2026/02/BastiaanSlabbersPreschool-10-e1731432373355.jpg
END:VEVENT
BEGIN:VEVENT
DTSTART;TZID=UTC:20260321T100000
DTEND;TZID=UTC:20260321T150000
DTSTAMP:20260421T132104
CREATED:20260224T001205Z
LAST-MODIFIED:20260224T001205Z
UID:15578-1774087200-1774105200@pennsylvaniakid.com
SUMMARY:Nature Explorers: Nature Through a Lens
DESCRIPTION:Drop your kids off at The Nature Place for a full day of exploring Angelica Creek Park\, scientific experiments\, and other hands-on activities perfect for the curious\, adventure-seeker! You pack the lunch\, and we’ll take care of the rest! Best for children aged 6+. Please pack a lunch and prepare your child appropriately for the outdoors and weather.\n\nStep into the spotlight of creativity and curiosity as we explore nature through photography\, film\, and art! This month\, the Nature Explorers will discover how light\, color\, and storytelling come together in the great outdoors. From crafting sun prints to creating nature-inspired mini films\, this immersive experience blends science\, art\, and play in the most inspiring classroom of all—nature itself.\n\nScholarships are available! We believe nature should be accessible and welcoming to all. With the support of our donors\, Berks Nature is able to offer scholarships to children hoping to participate in the Nature Explorers program that would otherwise be financially unable to. For more information and to apply\, please contact Allison Mackley (allison.mackley@berksnature.org).\n\n\nPlease note\, end times are approximate.\n\n\nRegistration closes March 19th
URL:https://pennsylvaniakid.com/event/nature-explorers-nature-through-a-lens
LOCATION:Berks Nature\, 575 St. Bernardine Street\, Reading\, PA\, 19607\, United States
CATEGORIES:Nature Center
END:VEVENT
END:VCALENDAR