BEGIN:VCALENDAR
VERSION:2.0
PRODID:-//Pennsylvania Kid - ECPv6.15.20//NONSGML v1.0//EN
CALSCALE:GREGORIAN
METHOD:PUBLISH
X-ORIGINAL-URL:https://pennsylvaniakid.com
X-WR-CALDESC:Events for Pennsylvania Kid
REFRESH-INTERVAL;VALUE=DURATION:PT1H
X-Robots-Tag:noindex
X-PUBLISHED-TTL:PT1H
BEGIN:VTIMEZONE
TZID:UTC
BEGIN:STANDARD
TZOFFSETFROM:+0000
TZOFFSETTO:+0000
TZNAME:UTC
DTSTART:20250101T000000
END:STANDARD
END:VTIMEZONE
BEGIN:VEVENT
DTSTART;TZID=UTC:20260425T120000
DTEND;TZID=UTC:20260425T150000
DTSTAMP:20260421T130759
CREATED:20260420T001625Z
LAST-MODIFIED:20260420T001625Z
UID:16111-1777118400-1777129200@pennsylvaniakid.com
SUMMARY:Nature Discover Day - Everyday is Earth Day
DESCRIPTION:Age: Kids and FamiliesFREE/Donations kindly accepted\nEvery day is Earth Day\, but today we join over 190 countries in celebrating our planet through education\, action\, and community! Join us at the Nature Center for hands-on activities that connect us to nature and inspire care for our environment. This is a drop-in event and will take place rain or shine.\nNO REGISTRATION NEEDED
URL:https://pennsylvaniakid.com/event/nature-discover-day-everyday-is-earth-day
LOCATION:Peace Valley Nature Center\, 170 N Chapman Road\, Doylestwn\, PA\, 18901\, United States
CATEGORIES:Free,Nature Center
ATTACH;FMTTYPE=image/jpeg:https://pennsylvaniakid.com/wp-content/uploads/2026/04/640886768_1350979957068779_3044433132078227826_n.jpg
END:VEVENT
BEGIN:VEVENT
DTSTART;TZID=UTC:20260426T130000
DTEND;TZID=UTC:20260426T160000
DTSTAMP:20260421T130759
CREATED:20260419T213159Z
LAST-MODIFIED:20260419T213159Z
UID:16049-1777208400-1777219200@pennsylvaniakid.com
SUMMARY:Earthfest 2026
DESCRIPTION:Celebrate the Earth at our annual Earth Day celebration! Enjoy a variety of activities\, including guided hikes\, animal encounters\, games\, crafts\, and more.\n​Sponsored by The DuPey Team: Pillar to Post ( @dupeyteam )\n​Location: Briar Bush Nature CenterDate: Sunday\, April 26\, 2026Time: 1:00pm-4:00pmCost: FREE (Registration is not required!)
URL:https://pennsylvaniakid.com/event/earthfest-2026
LOCATION:Briar Bush Nature Center\, 2595 Rubicam Avenue\, Willow Grove\, PA\, 19090\, United States
CATEGORIES:Earth Day,Nature Center
ATTACH;FMTTYPE=image/jpeg:https://pennsylvaniakid.com/wp-content/uploads/2026/04/612448696_1279553900871962_5781357877521070949_n.jpg
END:VEVENT
END:VCALENDAR