BEGIN:VCALENDAR
VERSION:2.0
PRODID:-//Pennsylvania Kid - ECPv6.15.20//NONSGML v1.0//EN
CALSCALE:GREGORIAN
METHOD:PUBLISH
X-WR-CALNAME:Pennsylvania Kid
X-ORIGINAL-URL:https://pennsylvaniakid.com
X-WR-CALDESC:Events for Pennsylvania Kid
REFRESH-INTERVAL;VALUE=DURATION:PT1H
X-Robots-Tag:noindex
X-PUBLISHED-TTL:PT1H
BEGIN:VTIMEZONE
TZID:UTC
BEGIN:STANDARD
TZOFFSETFROM:+0000
TZOFFSETTO:+0000
TZNAME:UTC
DTSTART:20250101T000000
END:STANDARD
END:VTIMEZONE
BEGIN:VEVENT
DTSTART;TZID=UTC:20260308T103000
DTEND;TZID=UTC:20260501T110000
DTSTAMP:20260421T100758
CREATED:20260308T022027Z
LAST-MODIFIED:20260308T022027Z
UID:15718-1772965800-1777633200@pennsylvaniakid.com
SUMMARY:Storytime at Aaron's Books (Fridays)
DESCRIPTION:Every Friday\, Ms. Alex will lead us in stories at 10:30am. Some weeks we’ll have music\, crafts\, or snacks\, depending on the theme! \nPlease let us know if you are planning on coming so we can plan how much space we’ll need. \nSuggested for ages 3-6
URL:https://pennsylvaniakid.com/event/storytime-at-aarons-books-fridays
LOCATION:Aaron’s Books\, 35 East Main Street\, Lititz\, PA\, 17543\, United States
CATEGORIES:Storytime
ATTACH;FMTTYPE=image/webp:https://pennsylvaniakid.com/wp-content/uploads/2026/03/2026-storytime.webp
END:VEVENT
END:VCALENDAR