BEGIN:VCALENDAR
VERSION:2.0
PRODID:-//Pennsylvania Kid - ECPv6.15.20//NONSGML v1.0//EN
CALSCALE:GREGORIAN
METHOD:PUBLISH
X-WR-CALNAME:Pennsylvania Kid
X-ORIGINAL-URL:https://pennsylvaniakid.com
X-WR-CALDESC:Events for Pennsylvania Kid
REFRESH-INTERVAL;VALUE=DURATION:PT1H
X-Robots-Tag:noindex
X-PUBLISHED-TTL:PT1H
BEGIN:VTIMEZONE
TZID:UTC
BEGIN:STANDARD
TZOFFSETFROM:+0000
TZOFFSETTO:+0000
TZNAME:UTC
DTSTART:20250101T000000
END:STANDARD
END:VTIMEZONE
BEGIN:VEVENT
DTSTART;TZID=UTC:20260502T100000
DTEND;TZID=UTC:20260502T160000
DTSTAMP:20260425T113658
CREATED:20260424T233236Z
LAST-MODIFIED:20260424T233236Z
UID:16139-1777716000-1777737600@pennsylvaniakid.com
SUMMARY:Party for the planet
DESCRIPTION:Party for the Planet is FREE to attend with paid Zoo admission! We are also pleased to offer free Zoo admission to Norristown Borough residents (Area Code 19401) on this day.\n_________________________________________________________\nSave the date & join us for our annual celebration of Earth Day and all things eco-friendly! Party for the Planet is a family\, fun-filled day that emphasizes the importance of conservation and the environment.\nGuests can enjoy demonstrations and education stations featuring animals\, recycling\, sustainable living\, a plant giveaway\, and more!
URL:https://pennsylvaniakid.com/event/party-for-the-planet
LOCATION:Elmwood Park Zoo\, 1661 Harding Blvd\, Norristown\, 19401\, United States
CATEGORIES:Zoo
ATTACH;FMTTYPE=image/jpeg:https://pennsylvaniakid.com/wp-content/uploads/2026/04/669875236_1375295411296672_5240163206892304550_n.jpg
END:VEVENT
BEGIN:VEVENT
DTSTART;TZID=UTC:20260509T140000
DTEND;TZID=UTC:20260509T150000
DTSTAMP:20260425T113658
CREATED:20260425T002621Z
LAST-MODIFIED:20260425T002621Z
UID:16151-1778335200-1778338800@pennsylvaniakid.com
SUMMARY:Eco-Family Workshops: Gardening For The Birds
DESCRIPTION:World Migratory Bird Day is officially celebrated on the second Saturday of May\, and this year the focus is on the role of public participation in collecting data on migratory bird populations\, their habitats\, and the factors that affect them\, and in contributing to our knowledge of how to protect them. Fly on over to the Zoo to learn how to attract and provide vital habitat for native birds and other wildlife. Each family will take home their own native plant and participate in the Habitat Hero plant tracking program to see how individual efforts impact our local bird flyways! \n  \nThis program is FREE to attend; registration is required.
URL:https://pennsylvaniakid.com/event/eco-family-workshops-gardening-for-the-birds
LOCATION:Elmwood Park Zoo\, 1661 Harding Blvd\, Norristown\, 19401\, United States
CATEGORIES:Zoo
ATTACH;FMTTYPE=image/jpeg:https://pennsylvaniakid.com/wp-content/uploads/2026/04/1920x1080birds.jpg
END:VEVENT
BEGIN:VEVENT
DTSTART;TZID=UTC:20260516T090000
DTEND;TZID=UTC:20260516T140000
DTSTAMP:20260425T113658
CREATED:20260425T000957Z
LAST-MODIFIED:20260425T000957Z
UID:16148-1778922000-1778940000@pennsylvaniakid.com
SUMMARY:Touch a Truck
DESCRIPTION:Join us for a hands-on\, family-friendly event where kids (and kids at heart) can get up close with the vehicles that keep our community moving and safe. \nClimb aboard\, explore\, and discover a variety of trucks and equipment from Lower Providence PD and other local departments. Meet the officers and first responders who use them every day\, ask questions\, and see live demonstrations throughout the event. \nThis event will be held in our Upper Parking Lot (Old Softball Field) and is free to the public.  \nTouch A Truck | Saturday\, May 16 | 9:00 AM – 2:00 PM
URL:https://pennsylvaniakid.com/event/touch-a-truck-4
LOCATION:Elmwood Park Zoo\, 1661 Harding Blvd\, Norristown\, 19401\, United States
CATEGORIES:Zoo
ATTACH;FMTTYPE=image/jpeg:https://pennsylvaniakid.com/wp-content/uploads/2026/04/1920x1080firetruck.jpg
END:VEVENT
BEGIN:VEVENT
DTSTART;TZID=UTC:20260523T080000
DTEND;TZID=UTC:20261018T100000
DTSTAMP:20260425T113658
CREATED:20260425T000827Z
LAST-MODIFIED:20260425T000827Z
UID:16145-1779523200-1792317600@pennsylvaniakid.com
SUMMARY:Breakfast with the Animals
DESCRIPTION:We’re giving the most important meal of the day a BIG upgrade! Enjoy a delicious outdoor breakfast buffet\, right next to our animals. After you’ve cleared your plate\, you’ll enjoy an exclusive interaction with the respective animals dedicated to your reservation! Space is limited for this event\, so don’t delay in purchasing your tickets! \n  \nDates:\n** 8:00 AM to 10:00 AM ** \nMay 23 & 24: Giraffe Edition \nJune 20 & 21: Giraffe Edition \nJuly 18 & 19: Harmony Hideaway Edition \nAugust 22 & 23: Monkey Edition \nSeptember 19 & 20: Education Edition \nOctober 17 & 18: Jaguar Edition \n  \nMenu:\nScrambled Eggs \nSausage \nTurkey Sausage \nBreakfast Potatoes \nWaffles and Toppings \nFresh Fruit \nCookies \nCash bar of beer\, wine\, and seltzer available \n  \nPricing:\n\n\n\nYearly Member: $45.00 pp \nNon- Member: $50.00 pp \nUnder 2: $12.00 pp \n  \n\n\n\nPurchase Tickets\nBreakfast with the Animals will be held rain or shine\n  \nPlease bring your own highchairs\, we have a limited amount and it is first come first served. \n*Parties/families wishing to sit together must register under the same name. Those who do not do so at least 48 hours in advance will run the risk of sitting separate from the other party they wish to sit with.\nOUR POLICY: NO REFUNDS OR RESCHEDULING. BREAKFAST WITH THE ANIMALS IS A RAIN OR SHINE EVENT. ELMWOOD PARK ZOO HAS THE RIGHT TO CANCEL\, CHANGE\, OR POSTPONE ANY PROGRAM/EVENT. IN THE EVENT THAT THE ZOO CANCELS THE PROGRAM/EVENT\, TICKET HOLDERS WILL BE CONTACTED DIRECTLY.
URL:https://pennsylvaniakid.com/event/breakfast-with-the-animals
LOCATION:Elmwood Park\, 1325 Harding Boulevard\, Norristown\, PA\, 19401\, United States
CATEGORIES:Animals,Zoo
ATTACH;FMTTYPE=image/png:https://pennsylvaniakid.com/wp-content/uploads/2026/04/Breakfast-with-the-Animals-1024x498-1.png
END:VEVENT
BEGIN:VEVENT
DTSTART;TZID=UTC:20260523T100000
DTEND;TZID=UTC:20260523T120000
DTSTAMP:20260425T113658
CREATED:20260425T000422Z
LAST-MODIFIED:20260425T000422Z
UID:16142-1779530400-1779537600@pennsylvaniakid.com
SUMMARY:Asian American and Pacific Islander Month Celebration
DESCRIPTION:Elmwood Park Zoo’s IDEA Committee invites you to celebrate \nAsian American Pacific Islander Month (AAPI) on Saturday\, May 23! \nThis event is free to attend with free zoo admission. Community Passes are not accepted on this day. \nDetails\nElmwood Park Zoo’s AAPI Celebration \nSaturday\, May 23 | 10:00 AM – 12:00 PM \nActivities \nOrigami and Enrichment Making | 10 AM – 11:30 AM | Location TBA \nKeeper Chat (Animal TBA) | Time TBA \nSpecialty Drinks at Zoo Brew throughout the event
URL:https://pennsylvaniakid.com/event/asian-american-and-pacific-islander-month-celebration
LOCATION:Elmwood Park\, 1325 Harding Boulevard\, Norristown\, PA\, 19401\, United States
CATEGORIES:Zoo
ATTACH;FMTTYPE=image/png:https://pennsylvaniakid.com/wp-content/uploads/2026/04/AAPI-Event-Image-e1746737913577-2048x1028-1.png
END:VEVENT
END:VCALENDAR